Workbook

Sheet 农行
A1: 五原县2021年农行贷款贴息明细表（1月份）
A2: 序号 | B2: 姓名 | C2: 居住地址 | D2: 贷款额度 | E2: 是否享受政策 | F2: 借款时间 | G2: 还款月份 | H2: 贴息计算 | I2: 利息总额 | J2: 实际贴息 | K2: 利率
A3: 1 | B3: 刘路珍 | C3: =VLOOKUP(B3,[1]扶贫小额0329!$B$2:$D$400,3,0) -> 新公中镇永旺村一社 | D3: 30000 | E3: 是 | F3: 2020-03-26 | G3: 44152 | H3: 按票据和享 受利率贴息 | I3: 855.5 | J3: 855.5 | K3: 4.35
A4: 2 | B4: 孙玉刚 | C4: =VLOOKUP(B4,[1]扶贫小额0329!$B$2:$D$400,3,0) -> 天吉泰镇复丰村五社 | D4: 30000 | E4: 是 | F4: 2020-01-22 | G4: 44161 | H4: 按票据和享 受利率贴息 | I4: 1120.13 | J4: 1120.13 | K4: 4.35
A5: 3 | B5: 徐迎来 | C5: =VLOOKUP(B5,[1]扶贫小额0329!$B$2:$D$400,3,0) -> 新公中镇光明村四社 | D5: 30000 | E5: 是 | F5: 2020-01-21 | G5: 44186 | H5: 按票据和享 受利率贴息 | I5: 1326.04 | J5: 1326.04 | K5: 4.75
A6: 4 | B6: 杨军义 | C6: =VLOOKUP(B6,[1]扶贫小额0329!$B$2:$D$400,3,0) -> 套海镇南茅庵村 | D6: 20000 | E6: 是 | F6: 2020-01-20 | G6: 44202 | H6: 按票据和享 受利率贴息 | I6: 712.92 | J6: 712.92 | K6: 4.35
A7: 5 | B7: 赵海峰 | C7: =VLOOKUP(B7,[1]扶贫小额0329!$B$2:$D$400,3,0) -> 胜丰镇新丰村四社 | D7: 40000 | E7: 是 | F7: 2020-01-20 | G7: 2021-01-19 | H7: 按票据和享 受利率贴息 | I7: 1769 | J7: 1769 | K7: 4.35
A8: 6 | B8: 贺亚峰 | C8: =VLOOKUP(B8,[1]扶贫小额0329!$B$2:$D$400,3,0) -> 套海镇红赛村二社 | D8: 20000 | E8: 是 | F8: 2020-01-21 | G8: 2021-01-19 | H8: 按票据和享 受利率贴息 | I8: 882.08 | J8: 882.08 | K8: 4.35
A9: 7 | B9: 徐青云 | C9: =VLOOKUP(B9,[1]扶贫小额0329!$B$2:$D$400,3,0) -> 新公中镇永联村一社 | D9: 20000 | E9: 是 | F9: 2020-01-16 | G9: 2021-01-15 | H9: 按票据和享 受利率贴息 | I9: 884.5 | J9: 884.5 | K9: 4.35
A10: 8 | B10: 李根蛇 | C10: =VLOOKUP(B10,[1]扶贫小额0329!$B$2:$D$400,3,0) -> 套海镇向阳村三社 | D10: 50000 | E10: 是 | F10: 2020-01-06 | G10: 2021-01-05 | H10: 按票据和享 受利率贴息 | I10: 2211.25 | J10: 2211.25 | K10: 4.35
A11: 9 | B11: 闫喜顺 | C11: =VLOOKUP(B11,[1]扶贫小额0329!$B$2:$D$400,3,0) -> 套海镇赛丰村八社 | D11: 50000 | E11: 是 | F11: 2020-01-06 | G11: 2021-01-05 | H11: 按票据和享 受利率贴息 | I11: 2211.25 | J11: 2211.25 | K11: 4.35
A12: 10 | B12: 杨占云 | C12: =VLOOKUP(B12,[1]扶贫小额0329!$B$2:$D$400,3,0) -> 套海镇向阳村十社 | D12: 50000 | E12: 是 | F12: 2020-01-02 | G12: 2021-01-01 | H12: 按票据和享 受利率贴息 | I12: 2211.25 | J12: 2211.25 | K12: 4.35
A13: 11 | B13: 赵雁飞 | C13: =VLOOKUP(B13,[1]扶贫小额0329!$B$2:$D$400,3,0) -> 套海镇红赛村五社 | D13: 10000 | E13: 是 | F13: 2020-01-21 | G13: 2021-01-20 | H13: 按票据和享 受利率贴息 | I13: 442.25 | J13: 442.25 | K13: 4.35
A14: 12 | B14: 弓玉荣 | C14: =VLOOKUP(B14,[1]扶贫小额0329!$B$2:$D$400,3,0) -> 套海镇响导村三社 | D14: 20000 | E14: 是 | F14: 2020-01-21 | G14: 2021-01-20 | H14: 按票据和享 受利率贴息 | I14: 884.5 | J14: 884.5 | K14: 4.35
A15: 13 | B15: 张继宽 | C15: =VLOOKUP(B15,[1]扶贫小额0329!$B$2:$D$400,3,0) -> 套海镇红赛村五社 | D15: 20000 | E15: 是 | F15: 2020-01-21 | G15: 2021-01-20 | H15: 按票据和享 受利率贴息 | I15: 884.5 | J15: 884.5 | K15: 4.35
A16: 14 | B16: 秦学军 | C16: =VLOOKUP(B16,[1]扶贫小额0329!$B$2:$D$400,3,0) -> 套海镇红赛村一社 | D16: 30000 | E16: 是 | F16: 2020-01-21 | G16: 2021-01-20 | H16: 按票据和享 受利率贴息 | I16: 1326.75 | J16: 1326.75 | K16: 4.35
A17: 15 | B17: 曹保保 | C17: =VLOOKUP(B17,[1]扶贫小额0329!$B$2:$D$400,3,0) -> 新公中镇创业村一社 | D17: 30000 | E17: 是 | F17: 2020-01-22 | G17: 2021-01-20 | H17: 按票据和享 受利率贴息 | I17: 112.38 | J17: 112.38 | K17: 4.35
A18: 16 | B18: 郭二其 | C18: =VLOOKUP(B18,[1]扶贫小额0329!$B$2:$D$400,3,0) -> 套海镇锦秀堂村二社 | D18: 10000 | E18: 是 | F18: 2020-01-20 | G18: 2021-01-19 | H18: 按票据和享 受利率贴息 | I18: 442.25 | J18: 442.25 | K18: 4.35
... A42: 40 | B42: 刘茹 | C42: =VLOOKUP(B42,[1]扶贫小额0329!$B$2:$D$400,3,0) -> 套海镇锦绣堂村三社 | D42: 50000 | E42: 是 | F42: 2020-02-28 | G42: 2021-01-27 | H42: 按票据和享 受利率贴息 | I42: 2023.96 | J42: 2023.96 | K42: 4.35
A43: 合计 | J43: =SUM(J3:J42) -> 39034.51
A44: 五原县2021年农商银行贷款贴息明细表（1月份）
A45: 序号 | B45: 姓名 | C45: 居住地址 | D45: 贷款额度 | E45: 是否享受政策 | F45: 借款时间 | G45: 还款月份 | H45: 贴息计算 | I45: 利息总额 | J45: 实际贴息 | K45: 利率
A46: 1 | B46: 孟喜林 | C46: 五原县天吉泰镇天吉泰一社 | D46: 20000 | E46: 是 | F46: 2020/6/19 | G46: 2021/1/29 | H46: 按票据和享 受利率贴息 | I46: 94.25 | J46: 94.25 | K46: 4.35
A47: 2 | B47: 刘孝荣 | C47: 五原县天吉泰镇天吉泰一社 | D47: 20000 | E47: 是 | F47: 2020/3/4 | G47: 2021/1/27 | H47: 按票据和享 受利率贴息 | I47: 82.16 | J47: 82.16 | K47: 4.35
A48: 合计 | J48: =SUM(J46:J47) -> 176.41
A49: 2021年中国银行五原支行贷款贴息明细表（1月份） 单位：元
A50: 序号 | B50: 姓名 | C50: 居住地址 | D50: 贷款额度 | E50: 是否享 受政策 | F50: 借款时间 | G50: 还款月份 | H50: 贴息计算 | I50: 利息总额 | J50: 实际贴息 | K50: 利率
A51: 1 | B51: 杜喜旺 | C51: 五原县隆兴昌镇光明村三社006号 | D51: 15000 | E51: 是 | F51: 20200526 | G51: 20210119 | H51: 按票据和享 受利率贴息 | I51: 424.13 | J51: 424.13 | K51: 4.35
A52: 合计 | J52: =SUM(J51:J51) -> 424.13
